BEGIN:VCALENDAR
VERSION:2.0
PRODID:-//Plone.org//NONSGML plone.app.event//EN
X-WR-TIMEZONE:US/Eastern
BEGIN:VEVENT
SUMMARY:Rosie the Riveter & Beyond!
DTSTART;TZID=US/Eastern:20260520T180000
DTEND;TZID=US/Eastern:20260520T190000
DTSTAMP:20260424T110741Z
UID:7b74607d49b044f19c4e8290f459cd8d@saas_stack_varnish:6080
CONTACT:989-584-3680
CREATED:20260423T211322Z
DESCRIPTION:This presentation highlights women's important contribution to
  Victory in WWII.
LAST-MODIFIED:20260423T211354Z
LOCATION:Carson City Public Library
URL:https://www.carsoncity.michlibrary.org/news-events/news-and-events/ros
 ie-the-riveter-beyond
END:VEVENT
BEGIN:VTIMEZONE
TZID:US/Eastern
X-LIC-LOCATION:US/Eastern
BEGIN:DAYLIGHT
DTSTART:20260308T030000
TZNAME:EDT
TZOFFSETFROM:-0500
TZOFFSETTO:-0400
END:DAYLIGHT
END:VTIMEZONE
END:VCALENDAR
